BEGIN:VCALENDAR
VERSION:2.0
PRODID:-//Katholisches Bistum der Alt-Katholiken in Deutschland - ECPv6.12.0.1//NONSGML v1.0//EN
CALSCALE:GREGORIAN
METHOD:PUBLISH
X-WR-CALNAME:Katholisches Bistum der Alt-Katholiken in Deutschland
X-ORIGINAL-URL:https://www.alt-katholisch.de
X-WR-CALDESC:Veranstaltungen für Katholisches Bistum der Alt-Katholiken in Deutschland
REFRESH-INTERVAL;VALUE=DURATION:PT1H
X-Robots-Tag:noindex
X-PUBLISHED-TTL:PT1H
BEGIN:VTIMEZONE
TZID:Europe/Berlin
BEGIN:DAYLIGHT
TZOFFSETFROM:+0100
TZOFFSETTO:+0200
TZNAME:CEST
DTSTART:20250330T010000
END:DAYLIGHT
BEGIN:STANDARD
TZOFFSETFROM:+0200
TZOFFSETTO:+0100
TZNAME:CET
DTSTART:20251026T010000
END:STANDARD
BEGIN:DAYLIGHT
TZOFFSETFROM:+0100
TZOFFSETTO:+0200
TZNAME:CEST
DTSTART:20260329T010000
END:DAYLIGHT
BEGIN:STANDARD
TZOFFSETFROM:+0200
TZOFFSETTO:+0100
TZNAME:CET
DTSTART:20261025T010000
END:STANDARD
END:VTIMEZONE
BEGIN:VEVENT
DTSTART;TZID=Europe/Berlin:20260315T100000
DTEND;TZID=Europe/Berlin:20260315T110000
DTSTAMP:20260421T115721
CREATED:20250907T153305Z
LAST-MODIFIED:20260328T164042Z
UID:10005046-1773568800-1773572400@www.alt-katholisch.de
SUMMARY:Eucharistiefeier mit Pfarrer Christoph Lichdi
DESCRIPTION:im Anschluss Kirchenkaffee in den Gemeinderäumen
URL:https://www.alt-katholisch.de/event/eucharistiefeier-mit-pfarrer-christoph-lichdi/2026-03-15/
LOCATION:Kirche Maria von Magdala\, Lindauer Str. 3\, Kempten\, Bayern\, 87435\, Germany
CATEGORIES:Gemeinde Kempten,Gottesdienste
END:VEVENT
BEGIN:VEVENT
DTSTART;TZID=Europe/Berlin:20260311T190000
DTEND;TZID=Europe/Berlin:20260311T200000
DTSTAMP:20260421T115721
CREATED:20250907T160320Z
LAST-MODIFIED:20260328T161555Z
UID:10005125-1773255600-1773259200@www.alt-katholisch.de
SUMMARY:Bibelteilen
DESCRIPTION:Mithilfe der Methode des Bibelteilens erschließen wir gemeinsam eine Bibelstelle und machen sie für unseren Alltag fruchtbar.\nKeine Vorkenntnisse notwendig
URL:https://www.alt-katholisch.de/event/bibelteilen/2026-03-11/
LOCATION:Kirche Maria von Magdala\, Lindauer Str. 3\, Kempten\, Bayern\, 87435\, Germany
CATEGORIES:Gemeinde Kempten,Spirituelles Angebot
END:VEVENT
BEGIN:VEVENT
DTSTART;TZID=Europe/Berlin:20260308T100000
DTEND;TZID=Europe/Berlin:20260308T110000
DTSTAMP:20260421T115721
CREATED:20250907T153305Z
LAST-MODIFIED:20260328T164042Z
UID:10005045-1772964000-1772967600@www.alt-katholisch.de
SUMMARY:Eucharistiefeier mit Pfarrer Christoph Lichdi
DESCRIPTION:im Anschluss Kirchenkaffee in den Gemeinderäumen
URL:https://www.alt-katholisch.de/event/eucharistiefeier-mit-pfarrer-christoph-lichdi/2026-03-08/
LOCATION:Kirche Maria von Magdala\, Lindauer Str. 3\, Kempten\, Bayern\, 87435\, Germany
CATEGORIES:Gemeinde Kempten,Gottesdienste
END:VEVENT
BEGIN:VEVENT
DTSTART;TZID=Europe/Berlin:20260301T100000
DTEND;TZID=Europe/Berlin:20260301T110000
DTSTAMP:20260421T115721
CREATED:20250907T153305Z
LAST-MODIFIED:20260328T164042Z
UID:10005044-1772359200-1772362800@www.alt-katholisch.de
SUMMARY:Eucharistiefeier mit Pfarrer Christoph Lichdi
DESCRIPTION:im Anschluss Kirchenkaffee in den Gemeinderäumen
URL:https://www.alt-katholisch.de/event/eucharistiefeier-mit-pfarrer-christoph-lichdi/2026-03-01/
LOCATION:Kirche Maria von Magdala\, Lindauer Str. 3\, Kempten\, Bayern\, 87435\, Germany
CATEGORIES:Gemeinde Kempten,Gottesdienste
END:VEVENT
BEGIN:VEVENT
DTSTART;TZID=Europe/Berlin:20260222T100000
DTEND;TZID=Europe/Berlin:20260222T110000
DTSTAMP:20260421T115721
CREATED:20250907T153305Z
LAST-MODIFIED:20260328T164042Z
UID:10005043-1771754400-1771758000@www.alt-katholisch.de
SUMMARY:Eucharistiefeier mit Pfarrer Christoph Lichdi
DESCRIPTION:im Anschluss Kirchenkaffee in den Gemeinderäumen
URL:https://www.alt-katholisch.de/event/eucharistiefeier-mit-pfarrer-christoph-lichdi/2026-02-22/
LOCATION:Kirche Maria von Magdala\, Lindauer Str. 3\, Kempten\, Bayern\, 87435\, Germany
CATEGORIES:Gemeinde Kempten,Gottesdienste
END:VEVENT
BEGIN:VEVENT
DTSTART;TZID=Europe/Berlin:20260220T190000
DTEND;TZID=Europe/Berlin:20260220T200000
DTSTAMP:20260421T115721
CREATED:20250907T154659Z
LAST-MODIFIED:20260328T164707Z
UID:10005094-1771614000-1771617600@www.alt-katholisch.de
SUMMARY:Taizé-Gebet
DESCRIPTION:In der Kirche\, bei kühler Witterung in den Gemeinderäumen
URL:https://www.alt-katholisch.de/event/taize-gebet-6/2026-02-20/
LOCATION:Kirche Maria von Magdala\, Lindauer Str. 3\, Kempten\, Bayern\, 87435\, Germany
CATEGORIES:Gemeinde Kempten,Spirituelle Angebote,Taizé-Gebet
END:VEVENT
BEGIN:VEVENT
DTSTART;TZID=Europe/Berlin:20260215T100000
DTEND;TZID=Europe/Berlin:20260215T110000
DTSTAMP:20260421T115721
CREATED:20250907T153305Z
LAST-MODIFIED:20260328T164042Z
UID:10005042-1771149600-1771153200@www.alt-katholisch.de
SUMMARY:Eucharistiefeier mit Pfarrer Christoph Lichdi
DESCRIPTION:im Anschluss Kirchenkaffee in den Gemeinderäumen
URL:https://www.alt-katholisch.de/event/eucharistiefeier-mit-pfarrer-christoph-lichdi/2026-02-15/
LOCATION:Kirche Maria von Magdala\, Lindauer Str. 3\, Kempten\, Bayern\, 87435\, Germany
CATEGORIES:Gemeinde Kempten,Gottesdienste
END:VEVENT
BEGIN:VEVENT
DTSTART;TZID=Europe/Berlin:20260211T190000
DTEND;TZID=Europe/Berlin:20260211T200000
DTSTAMP:20260421T115721
CREATED:20250907T160320Z
LAST-MODIFIED:20260328T161555Z
UID:10005124-1770836400-1770840000@www.alt-katholisch.de
SUMMARY:Bibelteilen
DESCRIPTION:Mithilfe der Methode des Bibelteilens erschließen wir gemeinsam eine Bibelstelle und machen sie für unseren Alltag fruchtbar.\nKeine Vorkenntnisse notwendig
URL:https://www.alt-katholisch.de/event/bibelteilen/2026-02-11/
LOCATION:Kirche Maria von Magdala\, Lindauer Str. 3\, Kempten\, Bayern\, 87435\, Germany
CATEGORIES:Gemeinde Kempten,Spirituelles Angebot
END:VEVENT
BEGIN:VEVENT
DTSTART;TZID=Europe/Berlin:20260208T100000
DTEND;TZID=Europe/Berlin:20260208T110000
DTSTAMP:20260421T115721
CREATED:20250907T153305Z
LAST-MODIFIED:20260328T164042Z
UID:10005041-1770544800-1770548400@www.alt-katholisch.de
SUMMARY:Eucharistiefeier mit Pfarrer Christoph Lichdi
DESCRIPTION:im Anschluss Kirchenkaffee in den Gemeinderäumen
URL:https://www.alt-katholisch.de/event/eucharistiefeier-mit-pfarrer-christoph-lichdi/2026-02-08/
LOCATION:Kirche Maria von Magdala\, Lindauer Str. 3\, Kempten\, Bayern\, 87435\, Germany
CATEGORIES:Gemeinde Kempten,Gottesdienste
END:VEVENT
BEGIN:VEVENT
DTSTART;TZID=Europe/Berlin:20260201T100000
DTEND;TZID=Europe/Berlin:20260201T110000
DTSTAMP:20260421T115721
CREATED:20250907T153305Z
LAST-MODIFIED:20260328T164042Z
UID:10005040-1769940000-1769943600@www.alt-katholisch.de
SUMMARY:Eucharistiefeier mit Pfarrer Christoph Lichdi
DESCRIPTION:im Anschluss Kirchenkaffee in den Gemeinderäumen
URL:https://www.alt-katholisch.de/event/eucharistiefeier-mit-pfarrer-christoph-lichdi/2026-02-01/
LOCATION:Kirche Maria von Magdala\, Lindauer Str. 3\, Kempten\, Bayern\, 87435\, Germany
CATEGORIES:Gemeinde Kempten,Gottesdienste
END:VEVENT
BEGIN:VEVENT
DTSTART;TZID=Europe/Berlin:20260125T100000
DTEND;TZID=Europe/Berlin:20260125T110000
DTSTAMP:20260421T115721
CREATED:20250907T153305Z
LAST-MODIFIED:20260328T164042Z
UID:10005039-1769335200-1769338800@www.alt-katholisch.de
SUMMARY:Eucharistiefeier mit Pfarrer Christoph Lichdi
DESCRIPTION:im Anschluss Kirchenkaffee in den Gemeinderäumen
URL:https://www.alt-katholisch.de/event/eucharistiefeier-mit-pfarrer-christoph-lichdi/2026-01-25/
LOCATION:Kirche Maria von Magdala\, Lindauer Str. 3\, Kempten\, Bayern\, 87435\, Germany
CATEGORIES:Gemeinde Kempten,Gottesdienste
END:VEVENT
BEGIN:VEVENT
DTSTART;TZID=Europe/Berlin:20260118T100000
DTEND;TZID=Europe/Berlin:20260118T110000
DTSTAMP:20260421T115721
CREATED:20250907T153305Z
LAST-MODIFIED:20260328T164042Z
UID:10005038-1768730400-1768734000@www.alt-katholisch.de
SUMMARY:Eucharistiefeier mit Pfarrer Christoph Lichdi
DESCRIPTION:im Anschluss Kirchenkaffee in den Gemeinderäumen
URL:https://www.alt-katholisch.de/event/eucharistiefeier-mit-pfarrer-christoph-lichdi/2026-01-18/
LOCATION:Kirche Maria von Magdala\, Lindauer Str. 3\, Kempten\, Bayern\, 87435\, Germany
CATEGORIES:Gemeinde Kempten,Gottesdienste
END:VEVENT
BEGIN:VEVENT
DTSTART;TZID=Europe/Berlin:20260116T190000
DTEND;TZID=Europe/Berlin:20260116T200000
DTSTAMP:20260421T115721
CREATED:20250907T154659Z
LAST-MODIFIED:20260328T164707Z
UID:10005093-1768590000-1768593600@www.alt-katholisch.de
SUMMARY:Taizé-Gebet
DESCRIPTION:In der Kirche\, bei kühler Witterung in den Gemeinderäumen
URL:https://www.alt-katholisch.de/event/taize-gebet-6/2026-01-16/
LOCATION:Kirche Maria von Magdala\, Lindauer Str. 3\, Kempten\, Bayern\, 87435\, Germany
CATEGORIES:Gemeinde Kempten,Spirituelle Angebote,Taizé-Gebet
END:VEVENT
BEGIN:VEVENT
DTSTART;TZID=Europe/Berlin:20260114T190000
DTEND;TZID=Europe/Berlin:20260114T200000
DTSTAMP:20260421T115721
CREATED:20250907T160320Z
LAST-MODIFIED:20260328T161555Z
UID:10005123-1768417200-1768420800@www.alt-katholisch.de
SUMMARY:Bibelteilen
DESCRIPTION:Mithilfe der Methode des Bibelteilens erschließen wir gemeinsam eine Bibelstelle und machen sie für unseren Alltag fruchtbar.\nKeine Vorkenntnisse notwendig
URL:https://www.alt-katholisch.de/event/bibelteilen/2026-01-14/
LOCATION:Kirche Maria von Magdala\, Lindauer Str. 3\, Kempten\, Bayern\, 87435\, Germany
CATEGORIES:Gemeinde Kempten,Spirituelles Angebot
END:VEVENT
BEGIN:VEVENT
DTSTART;TZID=Europe/Berlin:20260111T100000
DTEND;TZID=Europe/Berlin:20260111T110000
DTSTAMP:20260421T115721
CREATED:20250907T153305Z
LAST-MODIFIED:20260328T164042Z
UID:10005037-1768125600-1768129200@www.alt-katholisch.de
SUMMARY:Eucharistiefeier mit Pfarrer Christoph Lichdi
DESCRIPTION:im Anschluss Kirchenkaffee in den Gemeinderäumen
URL:https://www.alt-katholisch.de/event/eucharistiefeier-mit-pfarrer-christoph-lichdi/2026-01-11/
LOCATION:Kirche Maria von Magdala\, Lindauer Str. 3\, Kempten\, Bayern\, 87435\, Germany
CATEGORIES:Gemeinde Kempten,Gottesdienste
END:VEVENT
BEGIN:VEVENT
DTSTART;TZID=Europe/Berlin:20260104T100000
DTEND;TZID=Europe/Berlin:20260104T110000
DTSTAMP:20260421T115721
CREATED:20250907T153305Z
LAST-MODIFIED:20260328T164042Z
UID:10005036-1767520800-1767524400@www.alt-katholisch.de
SUMMARY:Eucharistiefeier mit Pfarrer Christoph Lichdi
DESCRIPTION:im Anschluss Kirchenkaffee in den Gemeinderäumen
URL:https://www.alt-katholisch.de/event/eucharistiefeier-mit-pfarrer-christoph-lichdi/2026-01-04/
LOCATION:Kirche Maria von Magdala\, Lindauer Str. 3\, Kempten\, Bayern\, 87435\, Germany
CATEGORIES:Gemeinde Kempten,Gottesdienste
END:VEVENT
BEGIN:VEVENT
DTSTART;TZID=Europe/Berlin:20251228T100000
DTEND;TZID=Europe/Berlin:20251228T110000
DTSTAMP:20260421T115721
CREATED:20250907T153305Z
LAST-MODIFIED:20260328T164042Z
UID:10005035-1766916000-1766919600@www.alt-katholisch.de
SUMMARY:Eucharistiefeier mit Pfarrer Christoph Lichdi
DESCRIPTION:im Anschluss Kirchenkaffee in den Gemeinderäumen
URL:https://www.alt-katholisch.de/event/eucharistiefeier-mit-pfarrer-christoph-lichdi/2025-12-28/
LOCATION:Kirche Maria von Magdala\, Lindauer Str. 3\, Kempten\, Bayern\, 87435\, Germany
CATEGORIES:Gemeinde Kempten,Gottesdienste
END:VEVENT
BEGIN:VEVENT
DTSTART;TZID=Europe/Berlin:20251221T100000
DTEND;TZID=Europe/Berlin:20251221T110000
DTSTAMP:20260421T115721
CREATED:20250907T153305Z
LAST-MODIFIED:20260328T164042Z
UID:10005034-1766311200-1766314800@www.alt-katholisch.de
SUMMARY:Eucharistiefeier mit Pfarrer Christoph Lichdi
DESCRIPTION:im Anschluss Kirchenkaffee in den Gemeinderäumen
URL:https://www.alt-katholisch.de/event/eucharistiefeier-mit-pfarrer-christoph-lichdi/2025-12-21/
LOCATION:Kirche Maria von Magdala\, Lindauer Str. 3\, Kempten\, Bayern\, 87435\, Germany
CATEGORIES:Gemeinde Kempten,Gottesdienste
END:VEVENT
BEGIN:VEVENT
DTSTART;TZID=Europe/Berlin:20251219T190000
DTEND;TZID=Europe/Berlin:20251219T200000
DTSTAMP:20260421T115721
CREATED:20250907T154659Z
LAST-MODIFIED:20260328T164707Z
UID:10005092-1766170800-1766174400@www.alt-katholisch.de
SUMMARY:Taizé-Gebet
DESCRIPTION:In der Kirche\, bei kühler Witterung in den Gemeinderäumen
URL:https://www.alt-katholisch.de/event/taize-gebet-6/2025-12-19/
LOCATION:Kirche Maria von Magdala\, Lindauer Str. 3\, Kempten\, Bayern\, 87435\, Germany
CATEGORIES:Gemeinde Kempten,Spirituelle Angebote,Taizé-Gebet
END:VEVENT
BEGIN:VEVENT
DTSTART;TZID=Europe/Berlin:20251214T100000
DTEND;TZID=Europe/Berlin:20251214T110000
DTSTAMP:20260421T115721
CREATED:20250907T153305Z
LAST-MODIFIED:20260328T164042Z
UID:10005033-1765706400-1765710000@www.alt-katholisch.de
SUMMARY:Eucharistiefeier mit Pfarrer Christoph Lichdi
DESCRIPTION:im Anschluss Kirchenkaffee in den Gemeinderäumen
URL:https://www.alt-katholisch.de/event/eucharistiefeier-mit-pfarrer-christoph-lichdi/2025-12-14/
LOCATION:Kirche Maria von Magdala\, Lindauer Str. 3\, Kempten\, Bayern\, 87435\, Germany
CATEGORIES:Gemeinde Kempten,Gottesdienste
END:VEVENT
BEGIN:VEVENT
DTSTART;TZID=Europe/Berlin:20251210T190000
DTEND;TZID=Europe/Berlin:20251210T200000
DTSTAMP:20260421T115721
CREATED:20250907T160320Z
LAST-MODIFIED:20260328T161555Z
UID:10005122-1765393200-1765396800@www.alt-katholisch.de
SUMMARY:Bibelteilen
DESCRIPTION:Mithilfe der Methode des Bibelteilens erschließen wir gemeinsam eine Bibelstelle und machen sie für unseren Alltag fruchtbar.\nKeine Vorkenntnisse notwendig
URL:https://www.alt-katholisch.de/event/bibelteilen/2025-12-10/
LOCATION:Kirche Maria von Magdala\, Lindauer Str. 3\, Kempten\, Bayern\, 87435\, Germany
CATEGORIES:Gemeinde Kempten,Spirituelles Angebot
END:VEVENT
BEGIN:VEVENT
DTSTART;TZID=Europe/Berlin:20251207T100000
DTEND;TZID=Europe/Berlin:20251207T110000
DTSTAMP:20260421T115721
CREATED:20250907T153305Z
LAST-MODIFIED:20260328T164042Z
UID:10005032-1765101600-1765105200@www.alt-katholisch.de
SUMMARY:Eucharistiefeier mit Pfarrer Christoph Lichdi
DESCRIPTION:im Anschluss Kirchenkaffee in den Gemeinderäumen
URL:https://www.alt-katholisch.de/event/eucharistiefeier-mit-pfarrer-christoph-lichdi/2025-12-07/
LOCATION:Kirche Maria von Magdala\, Lindauer Str. 3\, Kempten\, Bayern\, 87435\, Germany
CATEGORIES:Gemeinde Kempten,Gottesdienste
END:VEVENT
BEGIN:VEVENT
DTSTART;TZID=Europe/Berlin:20251130T100000
DTEND;TZID=Europe/Berlin:20251130T110000
DTSTAMP:20260421T115721
CREATED:20250907T153305Z
LAST-MODIFIED:20260328T164042Z
UID:10005031-1764496800-1764500400@www.alt-katholisch.de
SUMMARY:Eucharistiefeier mit Pfarrer Christoph Lichdi
DESCRIPTION:im Anschluss Kirchenkaffee in den Gemeinderäumen
URL:https://www.alt-katholisch.de/event/eucharistiefeier-mit-pfarrer-christoph-lichdi/2025-11-30/
LOCATION:Kirche Maria von Magdala\, Lindauer Str. 3\, Kempten\, Bayern\, 87435\, Germany
CATEGORIES:Gemeinde Kempten,Gottesdienste
END:VEVENT
BEGIN:VEVENT
DTSTART;TZID=Europe/Berlin:20251123T100000
DTEND;TZID=Europe/Berlin:20251123T110000
DTSTAMP:20260421T115721
CREATED:20250907T153305Z
LAST-MODIFIED:20260328T164042Z
UID:10005030-1763892000-1763895600@www.alt-katholisch.de
SUMMARY:Eucharistiefeier mit Pfarrer Christoph Lichdi
DESCRIPTION:im Anschluss Kirchenkaffee in den Gemeinderäumen
URL:https://www.alt-katholisch.de/event/eucharistiefeier-mit-pfarrer-christoph-lichdi/2025-11-23/
LOCATION:Kirche Maria von Magdala\, Lindauer Str. 3\, Kempten\, Bayern\, 87435\, Germany
CATEGORIES:Gemeinde Kempten,Gottesdienste
END:VEVENT
BEGIN:VEVENT
DTSTART;TZID=Europe/Berlin:20251121T190000
DTEND;TZID=Europe/Berlin:20251121T200000
DTSTAMP:20260421T115721
CREATED:20250907T154659Z
LAST-MODIFIED:20260328T164707Z
UID:10005091-1763751600-1763755200@www.alt-katholisch.de
SUMMARY:Taizé-Gebet
DESCRIPTION:In der Kirche\, bei kühler Witterung in den Gemeinderäumen
URL:https://www.alt-katholisch.de/event/taize-gebet-6/2025-11-21/
LOCATION:Kirche Maria von Magdala\, Lindauer Str. 3\, Kempten\, Bayern\, 87435\, Germany
CATEGORIES:Gemeinde Kempten,Spirituelle Angebote,Taizé-Gebet
END:VEVENT
BEGIN:VEVENT
DTSTART;TZID=Europe/Berlin:20251116T100000
DTEND;TZID=Europe/Berlin:20251116T110000
DTSTAMP:20260421T115721
CREATED:20250907T153305Z
LAST-MODIFIED:20260328T164042Z
UID:10005029-1763287200-1763290800@www.alt-katholisch.de
SUMMARY:Eucharistiefeier mit Pfarrer Christoph Lichdi
DESCRIPTION:im Anschluss Kirchenkaffee in den Gemeinderäumen
URL:https://www.alt-katholisch.de/event/eucharistiefeier-mit-pfarrer-christoph-lichdi/2025-11-16/
LOCATION:Kirche Maria von Magdala\, Lindauer Str. 3\, Kempten\, Bayern\, 87435\, Germany
CATEGORIES:Gemeinde Kempten,Gottesdienste
END:VEVENT
BEGIN:VEVENT
DTSTART;TZID=Europe/Berlin:20251112T190000
DTEND;TZID=Europe/Berlin:20251112T200000
DTSTAMP:20260421T115721
CREATED:20250907T160320Z
LAST-MODIFIED:20260328T161555Z
UID:10005121-1762974000-1762977600@www.alt-katholisch.de
SUMMARY:Bibelteilen
DESCRIPTION:Mithilfe der Methode des Bibelteilens erschließen wir gemeinsam eine Bibelstelle und machen sie für unseren Alltag fruchtbar.\nKeine Vorkenntnisse notwendig
URL:https://www.alt-katholisch.de/event/bibelteilen/2025-11-12/
LOCATION:Kirche Maria von Magdala\, Lindauer Str. 3\, Kempten\, Bayern\, 87435\, Germany
CATEGORIES:Gemeinde Kempten,Spirituelles Angebot
END:VEVENT
BEGIN:VEVENT
DTSTART;TZID=Europe/Berlin:20251109T100000
DTEND;TZID=Europe/Berlin:20251109T110000
DTSTAMP:20260421T115721
CREATED:20250907T153305Z
LAST-MODIFIED:20260328T164042Z
UID:10005028-1762682400-1762686000@www.alt-katholisch.de
SUMMARY:Eucharistiefeier mit Pfarrer Christoph Lichdi
DESCRIPTION:im Anschluss Kirchenkaffee in den Gemeinderäumen
URL:https://www.alt-katholisch.de/event/eucharistiefeier-mit-pfarrer-christoph-lichdi/2025-11-09/
LOCATION:Kirche Maria von Magdala\, Lindauer Str. 3\, Kempten\, Bayern\, 87435\, Germany
CATEGORIES:Gemeinde Kempten,Gottesdienste
END:VEVENT
BEGIN:VEVENT
DTSTART;TZID=Europe/Berlin:20251102T100000
DTEND;TZID=Europe/Berlin:20251102T110000
DTSTAMP:20260421T115721
CREATED:20250907T153305Z
LAST-MODIFIED:20260328T164042Z
UID:10005027-1762077600-1762081200@www.alt-katholisch.de
SUMMARY:Eucharistiefeier mit Pfarrer Christoph Lichdi
DESCRIPTION:im Anschluss Kirchenkaffee in den Gemeinderäumen
URL:https://www.alt-katholisch.de/event/eucharistiefeier-mit-pfarrer-christoph-lichdi/2025-11-02/
LOCATION:Kirche Maria von Magdala\, Lindauer Str. 3\, Kempten\, Bayern\, 87435\, Germany
CATEGORIES:Gemeinde Kempten,Gottesdienste
END:VEVENT
BEGIN:VEVENT
DTSTART;TZID=Europe/Berlin:20251026T100000
DTEND;TZID=Europe/Berlin:20251026T110000
DTSTAMP:20260421T115721
CREATED:20250907T153305Z
LAST-MODIFIED:20260328T164042Z
UID:10005026-1761472800-1761476400@www.alt-katholisch.de
SUMMARY:Eucharistiefeier mit Pfarrer Christoph Lichdi
DESCRIPTION:im Anschluss Kirchenkaffee in den Gemeinderäumen
URL:https://www.alt-katholisch.de/event/eucharistiefeier-mit-pfarrer-christoph-lichdi/2025-10-26/
LOCATION:Kirche Maria von Magdala\, Lindauer Str. 3\, Kempten\, Bayern\, 87435\, Germany
CATEGORIES:Gemeinde Kempten,Gottesdienste
END:VEVENT
END:VCALENDAR